BEGIN:VCALENDAR
VERSION:2.0
PRODID:-//hacksw/handcal//NONSGML v1.0//EN
CALSCALE:GREGORIAN
BEGIN:VEVENT
DESCRIPTION:
DTSTART:19700101T000000Z
DTEND:19700101T000000Z
SUMMARY:Year 7 Points Day
DTSTAMP:20260422T104930Z
UID:69e8a7bab1955
END:VEVENT
END:VCALENDAR